BEGIN:VCALENDAR
VERSION:2.0
PRODID:-//ChamberMaster//Event Calendar 2.0//EN
METHOD:PUBLISH
X-PUBLISHED-TTL:P3D
REFRESH-INTERVAL:P3D
CALSCALE:GREGORIAN
BEGIN:VEVENT
DTSTART:20260405T140000Z
DTEND:20260405T170000Z
X-MICROSOFT-CDO-ALLDAYEVENT:FALSE
SUMMARY:Event of a Member: The Salem NH Farmers Market
DESCRIPTION:The Salem NH Farmers Market is committed to promoting fresh\, local food and high-quality artisan products and making those products available to the greater Salem community. Every farmers market is a community event. We welcome you to come shop\, make new friends and enjoy the bounty of goodness available all year long. Sundays in Salem are the best at the farmers market!\n\n \n\nFollow us on Facebook and Instagram.
X-ALT-DESC;FMTTYPE=text/html:<div><span style="color:rgb(7\, 130\, 193)"><a href="https://www.salemnhfarmersmarket.org/" id="m_3402955171923865200OWAcc798355-2520-56c3-e69b-f8cd27d299f0" target="_blank">The Salem NH Farmers Market</a></span><span style="color:rgb(0\, 0\, 0)">&nbsp\;is committed to promoting fresh\, local food and high-quality artisan products and making those products available to the greater Salem community. Every farmers market is a community event. We welcome you to come shop\, make new friends and enjoy the bounty of goodness available all year long. Sundays in Salem are the best at the farmers market!</span></div>\n\n<p>&nbsp\;</p>\n\n<div><span style="color:rgb(0\, 0\, 0)">Follow us on</span><span style="color:rgb(7\, 130\, 193)"><a href="http://www.facebook.com/salemnhfarmersmarket" id="m_3402955171923865200OWAae56bf22-a0b7-2cda-c002-172d0439ad53" target="_blank">&nbsp\;Facebook</a></span><span style="color:rgb(0\, 0\, 0)">&nbsp\;and&nbsp\;</span><span style="color:rgb(7\, 130\, 193)"><a href="http://www.instagram.com/salemnhfarmersmarket" id="m_3402955171923865200OWAf89011ee-c4db-6992-80de-200755537ca9" target="_blank">Instagram</a></span><span style="color:rgb(0\, 0\, 0)">.</span></div>\n
LOCATION:The Winter Market is hosted by the Mary A. Fisk School\, 14 Main Street\, from 10am-1pm\, November through April.
UID:e.2029.17855
SEQUENCE:3
DTSTAMP:20260423T140538Z
URL:http://gschamber.sampleorg.com/events/details/event-of-a-member-the-salem-nh-farmers-market-04-05-2026-17855
END:VEVENT

END:VCALENDAR
