BEGIN:VCALENDAR
VERSION:2.0
PRODID:-//ChamberMaster//Event Calendar 2.0//EN
METHOD:PUBLISH
X-PUBLISHED-TTL:P3D
REFRESH-INTERVAL:P3D
CALSCALE:GREGORIAN
BEGIN:VEVENT
DTSTART;VALUE=DATE:20260531
DTEND;VALUE=DATE:20260601
TRANSP:TRANSPARENT
X-MICROSOFT-CDO-ALLDAYEVENT:TRUE
SUMMARY:Event of a Member: Salem Family Resources Success By 6 Miles4Moms & Fun4Family
DESCRIPTION:5K miles4moms\n\nMay 31\, 2026   9 - noon\n\nThis isn't just a race - it's a movement. Our miles4moms campaign is all about strengthening families one mom at a time\, and we want to see you show up\, team up\, and make an impact!\n\n\n\n\n\nRun or Walk:\n\nRegister today and create a team with your family\, friends\, coworkers\, or business. Rally together\, fundraise together\, and help us support moms and families right here in our community.\n\n\n\nRegister here: https://www.runreg.com/miles4moms\n\n\n\n \n\nFrom 9 12\, we'll be hosting Family Fun at the Field of Dreams with:\n\n  Local vendors\n\n  Activities for kids\n\n  Community connections\n\n  Fun for the whole family\n\n\n\n\n\nCalling All Sponsors & Fundraising Champions!\n\nWe're actively looking for sponsors and community leaders who want to step up\, stand out\, and help make this event a huge success. This is an amazing opportunity to support families while gaining visibility and making a real difference.\n\n\n\nLet's walk. Let's run. Let's fundraise.\n\n\n\nLet's strengthen families and have some fun!\n\nWe can't wait to see you at the Field of Dreams!\n\n \nRace starts at Field of Dreams - right onto Geremonty\, right onto Veterans Memorial Parkway\, right onto Rte 28\, right onto Main Street\, and a right back onto Geremonty\, ending at the Field of Dreams.
X-ALT-DESC;FMTTYPE=text/html:<div>5K miles4moms</div>\n\n<div>May 31\, 2026 &bull\; 9 - noon\n<div>\n<div>This isn&rsquo\;t just a race - it&rsquo\;s a movement. Our miles4moms campaign is all about strengthening families one mom at a time\, and we want to see you show up\, team up\, and make an impact!</div>\n</div>\n\n<div>\n<div><br />\nRun or Walk:</div>\n\n<div>Register today and create a team with your family\, friends\, coworkers\, or business. Rally together\, fundraise together\, and help us support moms and families right here in our community.</div>\n</div>\n\n<div>\n<div>Register here: <span style="font-family:inherit"><a class="x1i10hfl xjbqb8w x1ejq31n x18oe1m7 x1sy0etr xstzfhl x972fbf x10w94by x1qhh985 x14e42zd x9f619 x1ypdohk xt0psk2 x3ct3a4 xdj266r x14z9mp xat24cr x1lziwak xexx8yu xyri2b x18d9i69 x1c1uobl x16tdsg8 x1hl2dhg xggy1nq x1a2a7pz xkrqix3 x1sur9pj x1fey0fg x1s688f" href="https://www.runreg.com/miles4moms?fbclid=IwZXh0bgNhZW0CMTAAYnJpZBExWlRWQmtGek9oS2tlZkZUU3NydGMGYXBwX2lkEDIyMjAzOTE3ODgyMDA4OTIAAR7ydJu6hjbprwr2NDe5fhFhyIGT11zwtIsPIAlD5E0jm2GWDsgwxoN_QwQVOw_aem_HDz-jVh5exwQ7bz75C4_MA" rel="nofollow noreferrer" style="color: var(--blue-link)\; cursor: pointer\; text-decoration-line: none\; outline: currentcolor\; border-inline-width: 0px\; margin-inline: 0px\; text-align: inherit\; border-inline-style: none\; padding-inline: 0px\; font-weight: 600\; list-style-type: none\; box-sizing: border-box\; touch-action: manipulation\; background-color: transparent\; display: inline\; padding-bottom: 0px\; border-top-style: none\; border-bottom-width: 0px\; border-bottom-style: none\; border-top-width: 0px\; margin-bottom: 0px\; margin-top: 0px\; padding-top: 0px\; font-family: inherit\;" tabindex="0" target="_blank">https://www.runreg.com/miles4moms</a></span></div>\n</div>\n\n<div>\n<div>&nbsp\;</div>\n\n<div>From 9&ndash\;12\, we&rsquo\;ll be hosting Family Fun at the Field of Dreams with:</div>\n\n<div>&bull\; Local vendors</div>\n\n<div>&bull\; Activities for kids</div>\n\n<div>&bull\; Community connections</div>\n\n<div>&bull\; Fun for the whole family</div>\n</div>\n\n<div>\n<div><br />\nCalling All Sponsors &amp\; Fundraising Champions!</div>\n\n<div>We&rsquo\;re actively looking for sponsors and community leaders who want to step up\, stand out\, and help make this event a huge success. This is an amazing opportunity to support families while gaining visibility and making a real difference.</div>\n</div>\n\n<div>\n<div>Let&rsquo\;s walk. Let&rsquo\;s run. Let&rsquo\;s fundraise.</div>\n\n<div><br />\nLet&rsquo\;s strengthen families and have some fun!</div>\n\n<div>We can&rsquo\;t wait to see you at the Field of Dreams!<br />\n&nbsp\;\n<p><span style="color:rgb(255\, 94\, 15)">Race starts at Field of Dreams -&nbsp\;</span>right onto Geremonty\, right onto Veterans Memorial Parkway\, right onto Rte 28\, right onto Main Street\, and a right back onto Geremonty\, ending at the Field of Dreams.</p>\n</div>\n</div>\n</div>\n
LOCATION:Location: Field of Dreams\, Salem\, NH
UID:e.2029.17821
SEQUENCE:3
DTSTAMP:20260423T140537Z
URL:http://gschamber.sampleorg.com/events/details/event-of-a-member-salem-family-resources-success-by-6-miles4moms-fun4family-17821
END:VEVENT

END:VCALENDAR
