BEGIN:VCALENDAR
VERSION:2.0
PRODID:-//ChamberMaster//Event Calendar 2.0//EN
METHOD:PUBLISH
X-PUBLISHED-TTL:P3D
REFRESH-INTERVAL:P3D
CALSCALE:GREGORIAN
BEGIN:VEVENT
DTSTART;VALUE=DATE:20260918
DTEND;VALUE=DATE:20260919
TRANSP:TRANSPARENT
X-MICROSOFT-CDO-ALLDAYEVENT:TRUE
SUMMARY:Event of a Member: Salem Family Resources Success By 6 "Be Our Guest" 2026 Annual Gala
DESCRIPTION:Salem Family Resources is so excited to officially announce the Save the Date for our 2026 Annual Gala! \n\n \n\nWhile we get ready to enjoy lots of family fun this spring\, we're already dreaming ahead to an evening filled with warmth\, elegance\, and fairytale magic. \n\n \n\n"Be Our Guest"\n\nFriday\, September 18\, 2026\n\nSearles Castle\n\n \n\nJoin us for a magical night where stories come to life and hearts come together in support of strengthening families in our community. More details to come\, but for now- mark your calendars and start dreaming of a tale as old as time.\n\n \n\nWe can't wait to share this unforgettable evening with you!
X-ALT-DESC;FMTTYPE=text/html:<p style="margin-left:0in\; margin-right:0in">&nbsp\;</p>\n\n<p class="p2" style="margin: 0px\; font-variant-numeric: normal\; font-variant-east-asian: normal\; font-variant-alternates: normal\; font-size-adjust: none\; font-language-override: normal\; font-kerning: auto\; font-optical-sizing: auto\; font-feature-settings: normal\; font-variation-settings: normal\; font-variant-position: normal\; font-variant-emoji: normal\; font-stretch: normal\; font-size: 12px\; line-height: normal\; font-family: &quot\;Source Sans Pro&quot\;\; color: rgb(0\, 0\, 0)\;">Salem Family Resources is so excited to officially announce the Save the Date for our 2026 Annual Gala!<span class="Apple-converted-space">&nbsp\;</span></p>\n\n<p class="p1" style="margin: 0px\; font-variant-numeric: normal\; font-variant-east-asian: normal\; font-variant-alternates: normal\; font-size-adjust: none\; font-language-override: normal\; font-kerning: auto\; font-optical-sizing: auto\; font-feature-settings: normal\; font-variation-settings: normal\; font-variant-position: normal\; font-variant-emoji: normal\; font-stretch: normal\; font-size: 12px\; line-height: normal\; font-family: &quot\;Source Sans Pro&quot\;\; min-height: 15px\; color: rgb(0\, 0\, 0)\;">&nbsp\;</p>\n\n<p class="p2" style="margin: 0px\; font-variant-numeric: normal\; font-variant-east-asian: normal\; font-variant-alternates: normal\; font-size-adjust: none\; font-language-override: normal\; font-kerning: auto\; font-optical-sizing: auto\; font-feature-settings: normal\; font-variation-settings: normal\; font-variant-position: normal\; font-variant-emoji: normal\; font-stretch: normal\; font-size: 12px\; line-height: normal\; font-family: &quot\;Source Sans Pro&quot\;\; color: rgb(0\, 0\, 0)\;">While we get ready to enjoy lots of family fun this spring\, we&rsquo\;re already dreaming ahead to an evening filled with warmth\, elegance\, and fairytale magic.<span class="Apple-converted-space">&nbsp\;</span></p>\n\n<p class="p1" style="margin: 0px\; font-variant-numeric: normal\; font-variant-east-asian: normal\; font-variant-alternates: normal\; font-size-adjust: none\; font-language-override: normal\; font-kerning: auto\; font-optical-sizing: auto\; font-feature-settings: normal\; font-variation-settings: normal\; font-variant-position: normal\; font-variant-emoji: normal\; font-stretch: normal\; font-size: 12px\; line-height: normal\; font-family: &quot\;Source Sans Pro&quot\;\; min-height: 15px\; color: rgb(0\, 0\, 0)\;">&nbsp\;</p>\n\n<p class="p2" style="margin: 0px\; font-variant-numeric: normal\; font-variant-east-asian: normal\; font-variant-alternates: normal\; font-size-adjust: none\; font-language-override: normal\; font-kerning: auto\; font-optical-sizing: auto\; font-feature-settings: normal\; font-variation-settings: normal\; font-variant-position: normal\; font-variant-emoji: normal\; font-stretch: normal\; font-size: 12px\; line-height: normal\; font-family: &quot\;Source Sans Pro&quot\;\; color: rgb(0\, 0\, 0)\;">&quot\;Be Our Guest&quot\;</p>\n\n<p class="p2" style="margin: 0px\; font-variant-numeric: normal\; font-variant-east-asian: normal\; font-variant-alternates: normal\; font-size-adjust: none\; font-language-override: normal\; font-kerning: auto\; font-optical-sizing: auto\; font-feature-settings: normal\; font-variation-settings: normal\; font-variant-position: normal\; font-variant-emoji: normal\; font-stretch: normal\; font-size: 12px\; line-height: normal\; font-family: &quot\;Source Sans Pro&quot\;\; color: rgb(0\, 0\, 0)\;">Friday\, September 18\, 2026</p>\n\n<p class="p2" style="margin: 0px\; font-variant-numeric: normal\; font-variant-east-asian: normal\; font-variant-alternates: normal\; font-size-adjust: none\; font-language-override: normal\; font-kerning: auto\; font-optical-sizing: auto\; font-feature-settings: normal\; font-variation-settings: normal\; font-variant-position: normal\; font-variant-emoji: normal\; font-stretch: normal\; font-size: 12px\; line-height: normal\; font-family: &quot\;Source Sans Pro&quot\;\; color: rgb(0\, 0\, 0)\;">Searles Castle</p>\n\n<p class="p1" style="margin: 0px\; font-variant-numeric: normal\; font-variant-east-asian: normal\; font-variant-alternates: normal\; font-size-adjust: none\; font-language-override: normal\; font-kerning: auto\; font-optical-sizing: auto\; font-feature-settings: normal\; font-variation-settings: normal\; font-variant-position: normal\; font-variant-emoji: normal\; font-stretch: normal\; font-size: 12px\; line-height: normal\; font-family: &quot\;Source Sans Pro&quot\;\; min-height: 15px\; color: rgb(0\, 0\, 0)\;">&nbsp\;</p>\n\n<p class="p2" style="margin: 0px\; font-variant-numeric: normal\; font-variant-east-asian: normal\; font-variant-alternates: normal\; font-size-adjust: none\; font-language-override: normal\; font-kerning: auto\; font-optical-sizing: auto\; font-feature-settings: normal\; font-variation-settings: normal\; font-variant-position: normal\; font-variant-emoji: normal\; font-stretch: normal\; font-size: 12px\; line-height: normal\; font-family: &quot\;Source Sans Pro&quot\;\; color: rgb(0\, 0\, 0)\;">Join us for a magical night where stories come to life and hearts come together in support of strengthening families in our community. More details to come\, but for now- mark your calendars and start dreaming of a tale as old as time.</p>\n\n<p class="p1" style="margin: 0px\; font-variant-numeric: normal\; font-variant-east-asian: normal\; font-variant-alternates: normal\; font-size-adjust: none\; font-language-override: normal\; font-kerning: auto\; font-optical-sizing: auto\; font-feature-settings: normal\; font-variation-settings: normal\; font-variant-position: normal\; font-variant-emoji: normal\; font-stretch: normal\; font-size: 12px\; line-height: normal\; font-family: &quot\;Source Sans Pro&quot\;\; min-height: 15px\; color: rgb(0\, 0\, 0)\;">&nbsp\;</p>\n\n<p class="p2" style="margin: 0px\; font-variant-numeric: normal\; font-variant-east-asian: normal\; font-variant-alternates: normal\; font-size-adjust: none\; font-language-override: normal\; font-kerning: auto\; font-optical-sizing: auto\; font-feature-settings: normal\; font-variation-settings: normal\; font-variant-position: normal\; font-variant-emoji: normal\; font-stretch: normal\; font-size: 12px\; line-height: normal\; font-family: &quot\;Source Sans Pro&quot\;\; color: rgb(0\, 0\, 0)\;">We can&rsquo\;t wait to share this unforgettable evening with you!<span class="Apple-converted-space">&nbsp\;</span></p>\n
LOCATION:Searles Castle\, Windham\, NH
UID:e.2029.17822
SEQUENCE:3
DTSTAMP:20260423T213802Z
URL:http://gschamber.sampleorg.com/events/details/event-of-a-member-salem-family-resources-success-by-6-be-our-guest-2026-annual-gala-17822
END:VEVENT

END:VCALENDAR
