BEGIN:VCALENDAR
VERSION:2.0
PRODID:-//ChamberMaster//Event Calendar 2.0//EN
METHOD:PUBLISH
X-PUBLISHED-TTL:P3D
REFRESH-INTERVAL:P3D
CALSCALE:GREGORIAN
BEGIN:VEVENT
DTSTART:20260409T160000Z
DTEND:20260409T160000Z
X-MICROSOFT-CDO-ALLDAYEVENT:FALSE
SUMMARY:Event of a member: NH Tech Alliance ebrew Nashua
DESCRIPTION:Please join us!\nebrew is  New Hampshire's premier creative/technical after-work networking event. It is the place to meet peers\, share stories and opportunities\, and relax after a days work.\n\nJoin us at Spyglass Brewing Company for our first ever ebrew Nashua! \n\nThank you to our sponsor\, Ebryx\, LLC.
X-ALT-DESC;FMTTYPE=text/html:Please join us!\n<p>ebrew is &nbsp\;New Hampshire&#39\;s premier creative/technical after-work networking event. It is the place to meet peers\, share stories and opportunities\, and relax after a days work.</p>\n\n<p>Join us at Spyglass Brewing Company for our first ever ebrew Nashua!&nbsp\;</p>\n\n<p>Thank you to our sponsor\,&nbsp\;<a href="https://www.ebryx.com/" rel="noopener noreferrer" style="box-sizing: border-box\; background-color: transparent\; color: rgb(209\, 18\, 133)\; text-decoration-line: none\; font-weight: bold\; user-select: auto\;" target="_blank">Ebryx\, LLC.</a></p>\n
LOCATION:Spyglass Brewing Company Nashua\, NH
UID:e.2029.17848
SEQUENCE:3
DTSTAMP:20260423T140426Z
URL:http://gschamber.sampleorg.com/events/details/event-of-a-member-nh-tech-alliance-ebrew-nashua-17848
END:VEVENT

END:VCALENDAR
