BEGIN:VCALENDAR
VERSION:2.0
PRODID:-//ChamberMaster//Event Calendar 2.0//EN
METHOD:PUBLISH
X-PUBLISHED-TTL:P3D
REFRESH-INTERVAL:P3D
CALSCALE:GREGORIAN
BEGIN:VEVENT
DTSTART:20261015T223000Z
DTEND:20261015T223000Z
X-MICROSOFT-CDO-ALLDAYEVENT:FALSE
SUMMARY:Event of a Member: Monthly Salem Lions Club Meeting
DESCRIPTION:
X-ALT-DESC;FMTTYPE=text/html:
LOCATION:
UID:e.2029.13265
SEQUENCE:3
DTSTAMP:20260423T213825Z
URL:http://gschamber.sampleorg.com/events/details/event-of-a-member-monthly-salem-lions-club-meeting-10-15-2026-13265
END:VEVENT

END:VCALENDAR
