BEGIN:VCALENDAR
VERSION:2.0
PRODID:-//ChamberMaster//Event Calendar 2.0//EN
METHOD:PUBLISH
X-PUBLISHED-TTL:P3D
REFRESH-INTERVAL:P3D
CALSCALE:GREGORIAN
BEGIN:VEVENT
DTSTART:20260502T213000Z
DTEND:20260503T003000Z
X-MICROSOFT-CDO-ALLDAYEVENT:FALSE
SUMMARY:Event of a Member: Liberty House's Stand-Up for Veterans Comedy Show with Catholic Charities New Hampshire
DESCRIPTION:Get ready for a night full of big laughs for a great cause! Join us for an unforgettable evening of comedy and community as we come together to support Liberty House and the veterans we serve.\n\n \n\nEnjoy a lineup of talented comedians led by the talented Jimmy Dunn\, all while helping provide transitional housing\, pantry support\, and life-changing services for local veterans working hard to rebuild their lives.\n\n \n\nWhat to expect:\n\n  Live stand-up comedy\n\n  Cash bar\n\n  Raffles and auction items\n\n  A meaningful way to give back\n\n \n\nBring your friends\, family\, and sense of humor and help us turn laughter into impact! Together\, we can make a difference  one laugh at a time.\n\n \n\nSponsorship and ad opportunities available\, between $75-$5\,000. Donations for the auction and raffles\, always welcome.\n\n\n\nPlease contact Ashley at ashley@libertyhousenh.org or 603-669-0761\, to learn more.
X-ALT-DESC;FMTTYPE=text/html:Get ready for a night full of big laughs for a great cause! Join us for an unforgettable evening of comedy and community as we come together to support Liberty House and the veterans we serve.<br />\n&nbsp\;<br />\nEnjoy a lineup of talented comedians led by the talented Jimmy Dunn\, all while helping provide transitional housing\, pantry support\, and life-changing services for local veterans working hard to rebuild their lives.<br />\n&nbsp\;<br />\nWhat to expect:<br />\n&bull\; Live stand-up comedy<br />\n&bull\; Cash bar<br />\n&bull\; Raffles and auction items<br />\n&bull\; A meaningful way to give back<br />\n&nbsp\;<br />\nBring your friends\, family\, and sense of humor and help us turn laughter into impact!&nbsp\;Together\, we can make a difference&hellip\; one laugh at a time.<br />\n&nbsp\;<br />\nSponsorship and ad opportunities available\, between $75-$5\,000. Donations for the auction and raffles\, always welcome.<br />\n<br />\nPlease contact Ashley at ashley@libertyhousenh.org or 603-669-0761\, to learn more.<br />\n&nbsp\;<br />\n&nbsp\;
LOCATION:Dana Center Koonz Theatre St. Anselm College 100 St. Anselm Drive Manchester\, NH 03102
UID:e.2029.17941
SEQUENCE:3
DTSTAMP:20260423T122626Z
URL:http://gschamber.sampleorg.com/events/details/event-of-a-member-liberty-house-s-stand-up-for-veterans-comedy-show-with-catholic-charities-new-hampshire-17941
END:VEVENT

END:VCALENDAR
