BEGIN:VCALENDAR
VERSION:2.0
PRODID:-//ChamberMaster//Event Calendar 2.0//EN
METHOD:PUBLISH
X-PUBLISHED-TTL:P3D
REFRESH-INTERVAL:P3D
CALSCALE:GREGORIAN
BEGIN:VEVENT
DTSTART:20260416T223000Z
DTEND:20260417T000000Z
X-MICROSOFT-CDO-ALLDAYEVENT:FALSE
SUMMARY:Event of a Member: Hot Topic Presentation: Parenting When You Have ADHD with The Upper Room
DESCRIPTION:The Upper Room is excited to welcome Stephanie Wieder\, M.A. Ed. Founder of New Leaf ADHD Solutions Thursday\, April 16 to present the Hot Topic: Parenting When You Have ADHD. If you are a parent with ADHD\, or suspect you might be\, this workshop is for you.\n\n\n\nAvailable In person and will stream virtually. Free.\n\nCall 603-437-8477 x126 to sign up today.
X-ALT-DESC;FMTTYPE=text/html:<span style="color:rgb(8\, 8\, 9)\; font-family:segoe ui historic\,segoe ui\,helvetica\,arial\,sans-serif\; font-size:15px">The Upper Room is excited to welcome Stephanie Wieder\, M.A. Ed. Founder of New Leaf ADHD Solutions Thursday\, April 16 to present the Hot Topic: Parenting When You Have ADHD. If you are a parent with ADHD\, or suspect you might be\, this workshop is for you.</span><br />\n<br />\n<span style="color:rgb(8\, 8\, 9)\; font-family:segoe ui historic\,segoe ui\,helvetica\,arial\,sans-serif\; font-size:15px">Available In person and will stream virtually. Free.</span><br />\n<span style="color:rgb(8\, 8\, 9)\; font-family:segoe ui historic\,segoe ui\,helvetica\,arial\,sans-serif\; font-size:15px">Call 603-437-8477 x126 to sign up today.</span>
LOCATION:Hybrid At The Upper Room\, 36 Tsienneto Road\, Derry\, NH and will stream live virtually. Link will be provided.
UID:e.2029.17858
SEQUENCE:3
DTSTAMP:20260423T140421Z
URL:http://gschamber.sampleorg.com/events/details/event-of-a-member-hot-topic-presentation-parenting-when-you-have-adhd-with-the-upper-room-17858
END:VEVENT

END:VCALENDAR
