BEGIN:VCALENDAR
VERSION:2.0
PRODID:-//ChamberMaster//Event Calendar 2.0//EN
METHOD:PUBLISH
X-PUBLISHED-TTL:P3D
REFRESH-INTERVAL:P3D
CALSCALE:GREGORIAN
BEGIN:VEVENT
DTSTART:20260422T213000Z
DTEND:20260423T010000Z
X-MICROSOFT-CDO-ALLDAYEVENT:FALSE
SUMMARY:Event of a Member: Greater Salem Caregivers Annual Gala
DESCRIPTION:
X-ALT-DESC;FMTTYPE=text/html:
LOCATION:Searles Castle\, Windham NH
UID:e.2029.17269
SEQUENCE:3
DTSTAMP:20260423T140453Z
URL:http://gschamber.sampleorg.com/events/details/event-of-a-member-greater-salem-caregivers-annual-gala-04-22-2026-17269
END:VEVENT

END:VCALENDAR
