BEGIN:VCALENDAR
VERSION:2.0
PRODID:-//ChamberMaster//Event Calendar 2.0//EN
METHOD:PUBLISH
X-PUBLISHED-TTL:P3D
REFRESH-INTERVAL:P3D
CALSCALE:GREGORIAN
BEGIN:VEVENT
DTSTART:20260404T200000Z
DTEND:20260404T230000Z
X-MICROSOFT-CDO-ALLDAYEVENT:FALSE
SUMMARY:Event of a Member: Celebrate Red Sox season at Dick's House of Sport in Salem
DESCRIPTION:Join us Saturday\, April 4th\, from 4-7pm to Celebrate the start of baseball season! Enjoy your favorite ballpark snacks\, create your own baseball card\, test your hitting skills in our batting cage\, music\, games\, and so much more for the whole family. Stick around to watch the game as well.
X-ALT-DESC;FMTTYPE=text/html:Join us Saturday\, April 4th\, from 4-7pm to Celebrate the start of baseball season! Enjoy your favorite ballpark snacks\, create your own baseball card\, test your hitting skills in our batting cage\, music\, games\, and so much more for the whole family. Stick around to watch the game as well.
LOCATION:Dick's House of Sport 77 Rockingham Park Blvd. Salem\, NH 03079
UID:e.2029.17850
SEQUENCE:3
DTSTAMP:20260423T140533Z
URL:http://gschamber.sampleorg.com/events/details/event-of-a-member-celebrate-red-sox-season-at-dick-s-house-of-sport-in-salem-17850
END:VEVENT

END:VCALENDAR
