BEGIN:VCALENDAR
VERSION:2.0
PRODID:-//ChamberMaster//Event Calendar 2.0//EN
METHOD:PUBLISH
X-PUBLISHED-TTL:P3D
REFRESH-INTERVAL:P3D
CALSCALE:GREGORIAN
BEGIN:VEVENT
DTSTART:20260418T130000Z
DTEND:20260418T160000Z
X-MICROSOFT-CDO-ALLDAYEVENT:FALSE
SUMMARY:Event of a Member: Bulk Shredding Event w/ the Atkinson Women's Civic Club
DESCRIPTION:The Atkinson Women's Civic Club will once again host a Bulk Shredding Event on Saturday\, April 18th from 9AM to 12 Noon at the Atkinson Community Center\, 4 Main Street\, Atkinson.\n\nSafely dispose of your confidential documents by having them shredded onsite. The cost is $10 per standard box (9"h X 11"w X 14"d)\; additional fees will apply for larger boxes. The onsite shredding truck has a viewing monitor\, so you can stay and watch your documents be destroyed.\n\nClean out your files\, and your donation will help us fund our civic and financial assistance programs in the year ahead. For more information email our event coordinator Veronica Riley at vriley@awcc-nh.org.
X-ALT-DESC;FMTTYPE=text/html:<p>The Atkinson Women&rsquo\;s Civic Club will once again host a Bulk Shredding Event on Saturday\, April 18<sup>th</sup> from 9AM to 12 Noon at the Atkinson Community Center\, 4 Main Street\, Atkinson.</p>\n\n<p>Safely dispose of your confidential documents by having them shredded onsite. The cost is $10 per standard box (9&rdquo\;h X 11&rdquo\;w X 14&rdquo\;d)\; additional fees will apply for larger boxes. The onsite shredding truck has a viewing monitor\, so you can stay and watch your documents be destroyed.</p>\n\n<p>Clean out your files\, and your donation will help us fund our civic and financial assistance programs in the year ahead. For more information email our event coordinator Veronica Riley at <a href="mailto:vriley@awcc-nh.org">vriley@awcc-nh.org</a>.</p>\n
LOCATION:Atkinson Community Center\, 4 Main St. Atkinson NH
UID:e.2029.17857
SEQUENCE:3
DTSTAMP:20260423T140454Z
URL:http://gschamber.sampleorg.com/events/details/event-of-a-member-bulk-shredding-event-w-the-atkinson-women-s-civic-club-17857
END:VEVENT

END:VCALENDAR
