BEGIN:VCALENDAR
VERSION:2.0
PRODID:-//ChamberMaster//Event Calendar 2.0//EN
METHOD:PUBLISH
X-PUBLISHED-TTL:P3D
REFRESH-INTERVAL:P3D
CALSCALE:GREGORIAN
BEGIN:VEVENT
DTSTART:20260501T230000Z
DTEND:20260502T030000Z
X-MICROSOFT-CDO-ALLDAYEVENT:FALSE
SUMMARY:Event of a Member: 80's Night Dance Party! @ Birch Wood Vineyards
DESCRIPTION:Step back in time for a night packed with high-energy hits\, unforgettable fashion\, and all the neon nostalgia you can handle. Channel your favorite icons with leg warmers\, big hair\, shoulder pads\, high-waisted jeans\, and vibrant colors. It's your moment to shine like it's 1989!\n\nDJ Tommy Demers from Get Down Tonight Entertainment will be spinning all the greatest hits from the decade\, keeping the dance floor alive all night long.\n\nFood stations included with your ticket\n\nCash bar available\n\nThis is a 21+ event\n\nThere will be seating available by the dance floor ONLY to those who reserve the VIP tickets.\n\n\nAll other guests will have standing room (dancing room) in the Estate Room.\n\nAdditional seating will available in our Vineyard Room where food will be available.
X-ALT-DESC;FMTTYPE=text/html:<h4><span style="color:#000000"><span style="font-size:16px"><span style="font-family:tahoma">Step back in time for a night packed with high-energy hits\, unforgettable fashion\, and all the neon nostalgia you can handle. Channel your favorite icons with leg warmers\, big hair\, shoulder pads\, high-waisted jeans\, and vibrant colors. It&rsquo\;s your moment to shine like it&rsquo\;s 1989!</span></span></span></h4>\n\n<h4><span style="color:#000000"><span style="font-size:16px"><span style="font-family:tahoma">DJ Tommy Demers from&nbsp\;<em>Get Down Tonight Entertainment</em>&nbsp\;will be spinning all the greatest hits from the decade\, keeping the dance floor alive all night long.</span></span></span></h4>\n\n<h4><span style="color:#000000"><span style="font-family:tahoma\; font-size:16px">Food stations included with your ticket</span><br />\n<span style="font-family:tahoma\; font-size:16px">Cash bar available</span></span></h4>\n\n<p><span style="color:#000000"><span style="font-size:16px"><span style="font-family:tahoma"><em>This is a 21+ event</em></span></span></span></p>\n\n<h4><span style="color:#000000"><span style="font-family:tahoma\; font-size:16px">There will be seating available by the dance floor ONLY to those who reserve the VIP tickets.</span></span></h4>\n\n<div>\n<p><span style="color:#000000"><span style="font-size:16px"><span style="font-family:tahoma">All other guests will have standing room (dancing room) in the Estate Room.<br />\nAdditional seating will available in our Vineyard Room where food will be available.</span></span></span></p>\n</div>\n
LOCATION:Birch Wood Vineyards 199 Rockingham Road Derry\, NH 03038
UID:e.2029.17836
SEQUENCE:3
DTSTAMP:20260423T122619Z
URL:http://gschamber.sampleorg.com/events/details/event-of-a-member-80-s-night-dance-party-birch-wood-vineyards-17836
END:VEVENT

END:VCALENDAR
