BEGIN:VCALENDAR
VERSION:2.0
PRODID:-//ChamberMaster//Event Calendar 2.0//EN
METHOD:PUBLISH
X-PUBLISHED-TTL:P3D
REFRESH-INTERVAL:P3D
CALSCALE:GREGORIAN
BEGIN:VEVENT
DTSTART:20260921T123000Z
DTEND:20260921T193000Z
X-MICROSOFT-CDO-ALLDAYEVENT:FALSE
SUMMARY:Event of a Member: 5th Annual Mulligans for Moms Golf Tournament with Catholic Charities New Hampshire
DESCRIPTION:Join us September 21st at Breakfast Hill Golf Club to support New Generation\, a program of CCNH providing shelter and support for mothers and children facing homelessness!\n\nEnjoy a fun day for a great cause as you take part in this scramble format fundraiser that includes golf with cart\, a homestyle luncheon\, access to a bountiful silent auction & course contests\, and automatic entry into the raffle.\n\n \n\nFor more information and to register\, visit events.golfstatus.com/event/NGMulligans2026\n\n \n\nLooking to get more involved? Contact us about sponsorship and donation opportunities!
X-ALT-DESC;FMTTYPE=text/html:Join us September 21st at Breakfast Hill Golf Club to support New Generation\, a program of CCNH providing shelter and support for mothers and children facing homelessness!<br />\nEnjoy a fun day for a great cause as you take part in this scramble format fundraiser that includes golf with cart\, a homestyle luncheon\, access to a bountiful silent auction &amp\; course contests\, and automatic entry into the raffle.<br />\n&nbsp\;<br />\nFor more information and to register\, visit <a href="https://events.golfstatus.com/event/NGMulligans2026" target="_blank">events.golfstatus.com/event/NGMulligans2026</a><br />\n&nbsp\;<br />\nLooking to get more involved? Contact us about sponsorship and donation opportunities!
LOCATION:Breakfast Hill Golf Club 339 Breakfast Hill Rd Greenland\, NH 03840
UID:e.2029.16945
SEQUENCE:3
DTSTAMP:20260423T213803Z
URL:http://gschamber.sampleorg.com/events/details/event-of-a-member-5th-annual-mulligans-for-moms-golf-tournament-with-catholic-charities-new-hampshire-16945
END:VEVENT

END:VCALENDAR
