BEGIN:VCALENDAR
VERSION:2.0
PRODID:-//ChamberMaster//Event Calendar 2.0//EN
METHOD:PUBLISH
X-PUBLISHED-TTL:P3D
REFRESH-INTERVAL:P3D
CALSCALE:GREGORIAN
BEGIN:VEVENT
DTSTART:20260819T200000Z
DTEND:20260819T223000Z
X-MICROSOFT-CDO-ALLDAYEVENT:FALSE
SUMMARY:2026 Signature Event: Hidden Jewel Awards Celebration
DESCRIPTION:2026 Signature Event\n\nHidden Jewel Awards Celebration
X-ALT-DESC;FMTTYPE=text/html:2026 Signature Event<br />\nHidden Jewel Awards Celebration&nbsp\;&nbsp\;&nbsp\;&nbsp\;
LOCATION:LaBelle Winery 14 Route 111 Derry\, NH 03038
UID:e.2029.17817
SEQUENCE:3
DTSTAMP:20260423T183451Z
URL:http://gschamber.sampleorg.com/events/details/2026-signature-event-hidden-jewel-awards-celebration-17817
END:VEVENT

END:VCALENDAR
