BEGIN:VCALENDAR
VERSION:2.0
PRODID:-//ChamberMaster//Event Calendar 2.0//EN
METHOD:PUBLISH
X-PUBLISHED-TTL:P3D
REFRESH-INTERVAL:P3D
CALSCALE:GREGORIAN
BEGIN:VEVENT
DTSTART:20261209T173000Z
DTEND:20261210T003000Z
X-MICROSOFT-CDO-ALLDAYEVENT:FALSE
SUMMARY:2026 Signature Event: Business After Hours Jingle & Mingle
DESCRIPTION:Business After Hours Jingle & Mingle
X-ALT-DESC;FMTTYPE=text/html:Business After Hours Jingle &amp\; Mingle
LOCATION:Searles School & Chapel 3 Chapel Rd.\, Windham\, NH 03087
UID:e.2029.17820
SEQUENCE:3
DTSTAMP:20260424T004607Z
URL:http://gschamber.sampleorg.com/events/details/2026-signature-event-business-after-hours-jingle-mingle-17820
END:VEVENT

END:VCALENDAR
