BEGIN:VCALENDAR
VERSION:2.0
PRODID:-//ChamberMaster//Event Calendar 2.0//EN
METHOD:PUBLISH
X-PUBLISHED-TTL:P3D
REFRESH-INTERVAL:P3D
CALSCALE:GREGORIAN
BEGIN:VEVENT
DTSTART:20260923T213000Z
DTEND:20260924T003000Z
X-MICROSOFT-CDO-ALLDAYEVENT:FALSE
SUMMARY:2026 Signature Event: Annual Dinner & Gala
DESCRIPTION:Signature Event\n\nAnnual Dinner & Gala
X-ALT-DESC;FMTTYPE=text/html:Signature Event<br />\nAnnual Dinner &amp\; Gala
LOCATION:Castleton Banquet & Conference Center 58 Enterprise Drive Windham\, NH 03087
UID:e.2029.17818
SEQUENCE:3
DTSTAMP:20260423T213703Z
URL:http://gschamber.sampleorg.com/events/details/2026-signature-event-annual-dinner-gala-17818
END:VEVENT

END:VCALENDAR
