BEGIN:VCALENDAR
VERSION:2.0
PRODID:-//ChamberMaster//Event Calendar 2.0//EN
METHOD:PUBLISH
X-PUBLISHED-TTL:P3D
REFRESH-INTERVAL:P3D
CALSCALE:GREGORIAN
BEGIN:VEVENT
DTSTART:20261210T170000Z
DTEND:20261211T003000Z
X-MICROSOFT-CDO-ALLDAYEVENT:FALSE
SUMMARY:2026 Signature Event: Festival of Wreaths
DESCRIPTION:
X-ALT-DESC;FMTTYPE=text/html:<br />\n&nbsp\;
LOCATION:Searles School & Chapel 3 Chapel Road GPS 35 Range Road Windham\, NH 03087
UID:e.2029.17819
SEQUENCE:3
DTSTAMP:20260424T004606Z
URL:http://gschamber.sampleorg.com/events/details/2025-signature-event-festival-of-wreaths-17819
END:VEVENT

END:VCALENDAR
